BEGIN:VCALENDAR
VERSION:2.0
PRODID:-//46PLUS - ECPv6.15.20//NONSGML v1.0//EN
CALSCALE:GREGORIAN
METHOD:PUBLISH
X-ORIGINAL-URL:https://www.46plus.de
X-WR-CALDESC:Veranstaltungen für 46PLUS
REFRESH-INTERVAL;VALUE=DURATION:PT1H
X-Robots-Tag:noindex
X-PUBLISHED-TTL:PT1H
BEGIN:VTIMEZONE
TZID:Europe/Berlin
BEGIN:DAYLIGHT
TZOFFSETFROM:+0100
TZOFFSETTO:+0200
TZNAME:CEST
DTSTART:20220327T010000
END:DAYLIGHT
BEGIN:STANDARD
TZOFFSETFROM:+0200
TZOFFSETTO:+0100
TZNAME:CET
DTSTART:20221030T010000
END:STANDARD
BEGIN:DAYLIGHT
TZOFFSETFROM:+0100
TZOFFSETTO:+0200
TZNAME:CEST
DTSTART:20230326T010000
END:DAYLIGHT
BEGIN:STANDARD
TZOFFSETFROM:+0200
TZOFFSETTO:+0100
TZNAME:CET
DTSTART:20231029T010000
END:STANDARD
BEGIN:DAYLIGHT
TZOFFSETFROM:+0100
TZOFFSETTO:+0200
TZNAME:CEST
DTSTART:20240331T010000
END:DAYLIGHT
BEGIN:STANDARD
TZOFFSETFROM:+0200
TZOFFSETTO:+0100
TZNAME:CET
DTSTART:20241027T010000
END:STANDARD
END:VTIMEZONE
BEGIN:VEVENT
DTSTART;TZID=Europe/Berlin:20231014T170000
DTEND;TZID=Europe/Berlin:20231014T190000
DTSTAMP:20260423T090606
CREATED:20230301T210109Z
LAST-MODIFIED:20230418T201430Z
UID:4296-1697302800-1697310000@www.46plus.de
SUMMARY:Teenager Bowling
DESCRIPTION:Bowling für unsere Jugendlichen ab 13 Jahren (nur mit Begleitperson)\nDream Bowl\, Bühlstrasse 140\, 70736 Fellbach\n* ab 19 Uhr gemeinsames Abendessen auf eigene Kosten im Dream-Bowl\nAnmeldung bis Mittwoch 11.10.2023 bei Simone Kollberg via simone.kollberg@46plus.de
URL:https://www.46plus.de/termin/teenager-bowling/
LOCATION:Dream Bowl\, Bühlstraße 140\, Fellbach\, 70736
ATTACH;FMTTYPE=image/png:https://www.46plus.de/wp-content/uploads/2023/03/Kegel-Bowling.png
ORGANIZER;CN="Simone Kollberg":MAILTO:simone.kollberg@46plus.de
END:VEVENT
END:VCALENDAR