BEGIN:VCALENDAR
VERSION:2.0
PRODID:-//46PLUS - ECPv6.15.20//NONSGML v1.0//EN
CALSCALE:GREGORIAN
METHOD:PUBLISH
X-WR-CALNAME:46PLUS
X-ORIGINAL-URL:https://www.46plus.de
X-WR-CALDESC:Veranstaltungen für 46PLUS
REFRESH-INTERVAL;VALUE=DURATION:PT1H
X-Robots-Tag:noindex
X-PUBLISHED-TTL:PT1H
BEGIN:VTIMEZONE
TZID:Europe/Berlin
BEGIN:DAYLIGHT
TZOFFSETFROM:+0100
TZOFFSETTO:+0200
TZNAME:CEST
DTSTART:20200329T010000
END:DAYLIGHT
BEGIN:STANDARD
TZOFFSETFROM:+0200
TZOFFSETTO:+0100
TZNAME:CET
DTSTART:20201025T010000
END:STANDARD
BEGIN:DAYLIGHT
TZOFFSETFROM:+0100
TZOFFSETTO:+0200
TZNAME:CEST
DTSTART:20210328T010000
END:DAYLIGHT
BEGIN:STANDARD
TZOFFSETFROM:+0200
TZOFFSETTO:+0100
TZNAME:CET
DTSTART:20211031T010000
END:STANDARD
BEGIN:DAYLIGHT
TZOFFSETFROM:+0100
TZOFFSETTO:+0200
TZNAME:CEST
DTSTART:20220327T010000
END:DAYLIGHT
BEGIN:STANDARD
TZOFFSETFROM:+0200
TZOFFSETTO:+0100
TZNAME:CET
DTSTART:20221030T010000
END:STANDARD
END:VTIMEZONE
BEGIN:VEVENT
DTSTART;VALUE=DATE:20211231
DTEND;VALUE=DATE:20220101
DTSTAMP:20260421T153623
CREATED:20211101T134946Z
LAST-MODIFIED:20211101T134946Z
UID:2558-1640908800-1640995199@www.46plus.de
SUMMARY:Espressomobil-Einsatz
DESCRIPTION:SILVESTERLAUF / LÖWENMARKT / WEILIMDORF \nDetails werden nachgereicht
URL:https://www.46plus.de/termin/espressomobil-einsatz/
CATEGORIES:Espressomobil-Einsatz
ATTACH;FMTTYPE=image/jpeg:https://www.46plus.de/wp-content/uploads/2021/10/005-1.jpg
END:VEVENT
END:VCALENDAR